BEGIN:VCALENDAR
VERSION:2.0
PRODID:-//wp-events-plugin.com//5.99912//EN
TZID:Europe/Berlin
X-WR-TIMEZONE:Europe/Berlin
BEGIN:VEVENT
UID:0-155@sontheimbrenz.albverein.eu
DTSTART;TZID=Europe/Berlin:20270106T100000
DTEND;TZID=Europe/Berlin:20270106T163000
DTSTAMP:20260112T021342Z
URL:https://sontheimbrenz.albverein.eu/events/wanderung-nach-stetten-2/
SUMMARY:Wanderung nach Stetten
DESCRIPTION:Auch in diesem Jahr führt unsere erste Wanderung der Tradition
  entsprechend nach Stetten.\n\n 	Treffpunkt ist um 10 Uhr am Waldspielplat
 z an der Bergstraße\;\n 	ca. 12 Uhr Einkehr zum gemeinsamen Mittagessen i
 m Mohren in Stetten.\n\nWanderführerin: Anna Kröner\n\nGegen 14:30 Uhr w
 ird der Rückweg von Stetten aus angetreten. Wer nicht mitwandern kann\, s
 ondern direkt nach Stetten kommt\, möge sich bitte bei Wanderführer Jür
 gen Benz wegen Platzreservierung anmelden - ebenso auch die Wanderer.\nAnm
 eldungen sind wegen der Platzreservierung bis zum 01.01.2026 möglich.\n\n
 Gäste sind wie immer herzlich willkommen!
LOCATION:Waldspielplatz Bergstraße\, Bergstraße 58\, Sontheim\, Baden-Wü
 rttemberg\, 89567\, Deutschland
GEO:48.5586630193502;10.27737268042597
X-APPLE-STRUCTURED-LOCATION;VALUE=URI;X-ADDRESS=Bergstraße 58\, Sontheim\,
  Baden-Württemberg\, 89567\, Deutschland;X-APPLE-RADIUS=100;X-TITLE=Walds
 pielplatz Bergstraße:geo:48.5586630193502,10.27737268042597
END:VEVENT
BEGIN:VTIMEZONE
TZID:Europe/Berlin
X-LIC-LOCATION:Europe/Berlin
BEGIN:STANDARD
DTSTART:20261025T020000
TZOFFSETFROM:+0200
TZOFFSETTO:+0100
TZNAME:CET
END:STANDARD
END:VTIMEZONE
END:VCALENDAR