BEGIN:VCALENDAR
VERSION:2.0
PRODID:-//wp-events-plugin.com//5.99912//EN
TZID:Europe/Berlin
X-WR-TIMEZONE:Europe/Berlin
BEGIN:VEVENT
UID:0-212@sontheimbrenz.albverein.eu
DTSTART;TZID=Europe/Berlin:20260628T130000
DTEND;TZID=Europe/Berlin:20260628T130000
DTSTAMP:20251208T142743Z
URL:https://sontheimbrenz.albverein.eu/events/wanderung-zum-waldkonzert/
SUMMARY:Wanderung zum Waldkonzert
DESCRIPTION:Unsere nächste Wanderung durch den Sontheimer Wald startet bei
  der Reithalle\, vorbei am Brünnele\, führt die Tour zur Großhauhütte.
 \nWährend einer Rast erwartet die Besucher\, wie letztes Jahr\, das Waldk
 onzert der Volkstanzmusik unserer Ortsgruppe. In lockerer Atmosphäre kön
 nen die Wanderer eine kleine Erfrischung zu sich nehmen und der musikalisc
 hen Unterhaltung zuhören.\n\nDie Wegstrecke beträgt max. 7 km.\nWann: 28
 . Juni 2026 um 13:00 Uhr\nTreffpunkt: Reithalle Sontheim\n\nWanderführeri
 n Anna Kröner lädt die Mitglieder sowie interessierte Gäste herzlich ei
 n.
LOCATION:Reithalle Sontheim\, Stockhau 2\, Sontheim\, Baden-Württemberg\, 
 89567\, Deutschland
GEO:48.5571517;10.272656299999994
X-APPLE-STRUCTURED-LOCATION;VALUE=URI;X-ADDRESS=Stockhau 2\, Sontheim\, Bad
 en-Württemberg\, 89567\, Deutschland;X-APPLE-RADIUS=100;X-TITLE=Reithalle
  Sontheim:geo:48.5571517,10.272656299999994
END:VEVENT
BEGIN:VTIMEZONE
TZID:Europe/Berlin
X-LIC-LOCATION:Europe/Berlin
BEGIN:DAYLIGHT
DTSTART:20260329T030000
TZOFFSETFROM:+0100
TZOFFSETTO:+0200
TZNAME:CEST
END:DAYLIGHT
END:VTIMEZONE
END:VCALENDAR