BEGIN:VCALENDAR
VERSION:2.0
PRODID:-//wp-events-plugin.com//5.99912//EN
TZID:Europe/Berlin
X-WR-TIMEZONE:Europe/Berlin
BEGIN:VEVENT
UID:0-396@sontheimbrenz.albverein.eu
DTSTART;TZID=Europe/Berlin:20260525T000000
DTEND;TZID=Europe/Berlin:20260601T000000
DTSTAMP:20251116T175800Z
URL:https://sontheimbrenz.albverein.eu/events/wanderwoche-in-tschechien/
SUMMARY:Wanderwoche in Tschechien
DESCRIPTION:Die Wanderwoche ist geplant vom 25. Mai bis 1. Juni 2026.\nAuf 
 dem Programm stehen verschiedene Wanderungen im Reich von Rübezahl im Rie
 sengebirge\, rund um die Schneekoppe\, sowie kulturelle Highlights.\n\nIm 
 Reisepreis enthalten:\n\n 	Unterkunft in der Hancova Baude in Benecko\, Ts
 chechien\n 	Fahrt im modernen Reisebus\n 	7 x Übernachtung mit Halbpensio
 n im DZ mit Dusche und WC\n 	Kleines Frühstück bei der Anreise\n 	Örtli
 che Wanderreiseleitung an 6 Tagen\n 	Eintrittspreise\n 	Trinkgelder\n\nTei
 lnehmerzahl: max. 27 Personen\n\nDer Reisepreis beträgt ca. 860\,00 € /
  EZ Zuschlag 50\,00 €\nZuschlag für Nichtmitglieder 40\,00 €\n\nAnmel
 dungen ab 26. November 2025 möglich.\n\nWeitere Informationen gibt es bei
 :\nHadwig Franz\, Tel: 07325 / 92 35 50 oder 01520 / 3838 609
END:VEVENT
BEGIN:VTIMEZONE
TZID:Europe/Berlin
X-LIC-LOCATION:Europe/Berlin
BEGIN:DAYLIGHT
DTSTART:20260329T030000
TZOFFSETFROM:+0100
TZOFFSETTO:+0200
TZNAME:CEST
END:DAYLIGHT
END:VTIMEZONE
END:VCALENDAR