BEGIN:VCALENDAR
VERSION:2.0
PRODID:-//wp-events-plugin.com//5.99912//EN
TZID:Europe/Berlin
X-WR-TIMEZONE:Europe/Berlin
BEGIN:VEVENT
UID:0-414@sontheimbrenz.albverein.eu
DTSTART;TZID=Europe/Berlin:20261103T160000
DTEND;TZID=Europe/Berlin:20261103T180000
DTSTAMP:20251203T144726Z
URL:https://sontheimbrenz.albverein.eu/events/weihnachtsgeschenke-basteln-
 teil-i/
SUMMARY:Weihnachtsgeschenke basteln\, Teil I
DESCRIPTION:Weil die Jugendleiter euch in diesem Jahr auf das oft so plötz
 lich kommende Weihnachten vorbereiten möchten\, werden an diesem Termin G
 eschenke gebastelt.\nDazu stellen wir euch Ideen bereit\, aus denen ihr da
 nn aussuchen könnt. Lasst euch also mitnehmen und für die Menschen\, die
  euch am Herzen liegen\, etwas Tolles basteln!\n\nWeil's trotzdem noch so 
 lang hin ist bis dahin\, kommen die Infos erst später ...
LOCATION:Grundschule Brenz\, Turnstraße 33\, Sontheim\, Baden-Württemberg
 \, 89567\, Deutschland
GEO:48.56610999999999;10.291079999999965
X-APPLE-STRUCTURED-LOCATION;VALUE=URI;X-ADDRESS=Turnstraße 33\, Sontheim\,
  Baden-Württemberg\, 89567\, Deutschland;X-APPLE-RADIUS=100;X-TITLE=Grund
 schule Brenz:geo:48.56610999999999,10.291079999999965
END:VEVENT
BEGIN:VTIMEZONE
TZID:Europe/Berlin
X-LIC-LOCATION:Europe/Berlin
BEGIN:STANDARD
DTSTART:20261025T020000
TZOFFSETFROM:+0200
TZOFFSETTO:+0100
TZNAME:CET
END:STANDARD
END:VTIMEZONE
END:VCALENDAR