BEGIN:VCALENDAR
VERSION:2.0
PRODID:-//wp-events-plugin.com//5.99912//EN
TZID:Europe/Berlin
X-WR-TIMEZONE:Europe/Berlin
BEGIN:VEVENT
UID:0-415@sontheimbrenz.albverein.eu
DTSTART;TZID=Europe/Berlin:20261127T150000
DTEND;TZID=Europe/Berlin:20261127T163000
DTSTAMP:20251203T145052Z
URL:https://sontheimbrenz.albverein.eu/events/weihnachtsgeschenke-basteln-
 teil-ii/
SUMMARY:Weihnachtsgeschenke basteln\, Teil II
DESCRIPTION:Bei diesem Treffen sollen die begonnenen Geschenke fertig geste
 llt werden. Dann habt ihr schon fast einen Monat vor Weihnachten etwas Sch
 önes für die Menschen\, die euch wichtig sind. Das ist toll! Kommt also 
 nochmal und macht alles fertig.\n\nUnd auch zu diesem Treffen kommen die I
 nformationen erst dann\, wenn es nötig ist.
LOCATION:Grundschule Brenz\, Turnstraße 33\, Sontheim\, Baden-Württemberg
 \, 89567\, Deutschland
GEO:48.56610999999999;10.291079999999965
X-APPLE-STRUCTURED-LOCATION;VALUE=URI;X-ADDRESS=Turnstraße 33\, Sontheim\,
  Baden-Württemberg\, 89567\, Deutschland;X-APPLE-RADIUS=100;X-TITLE=Grund
 schule Brenz:geo:48.56610999999999,10.291079999999965
END:VEVENT
BEGIN:VTIMEZONE
TZID:Europe/Berlin
X-LIC-LOCATION:Europe/Berlin
BEGIN:STANDARD
DTSTART:20261025T020000
TZOFFSETFROM:+0200
TZOFFSETTO:+0100
TZNAME:CET
END:STANDARD
END:VTIMEZONE
END:VCALENDAR