BEGIN:VCALENDAR
VERSION:2.0
PRODID:-//wp-events-plugin.com//5.99912//EN
TZID:Europe/Berlin
X-WR-TIMEZONE:Europe/Berlin
BEGIN:VEVENT
UID:0-145@sontheimbrenz.albverein.eu
DTSTART;TZID=Europe/Berlin;VALUE=DATE:20261018
DTEND;TZID=Europe/Berlin;VALUE=DATE:20261019
DTSTAMP:20260112T013159Z
URL:https://sontheimbrenz.albverein.eu/events/weinbergwanderung-im-remstal
 /
SUMMARY:Weinbergwanderung im Remstal
DESCRIPTION:Ganz herzlich lädt Wanderwartin Brigitte Wirth zur schon zur T
 radition gewordenen Weinbergwanderung im Remstal ein. Wie immer wird es si
 cher eine total interessante Wanderung werden ...\n\nAlle weiteren Informa
 tionen werden dann zeitnah bekannt gegeben.\n\nWir freuen uns über alle V
 ereinsmitglieder und Intteressierten!
LOCATION:Bahnhof Sontheim\, Bahnhofstraße 15\, Sontheim\, Baden-Württembe
 rg\, 89567\, Deutschland
GEO:48.5592157;10.285064000000034
X-APPLE-STRUCTURED-LOCATION;VALUE=URI;X-ADDRESS=Bahnhofstraße 15\, Sonthei
 m\, Baden-Württemberg\, 89567\, Deutschland;X-APPLE-RADIUS=100;X-TITLE=Ba
 hnhof Sontheim:geo:48.5592157,10.285064000000034
END:VEVENT
BEGIN:VTIMEZONE
TZID:Europe/Berlin
X-LIC-LOCATION:Europe/Berlin
BEGIN:DAYLIGHT
DTSTART:20260329T030000
TZOFFSETFROM:+0100
TZOFFSETTO:+0200
TZNAME:CEST
END:DAYLIGHT
END:VTIMEZONE
END:VCALENDAR