BEGIN:VCALENDAR
VERSION:2.0
PRODID:-//wp-events-plugin.com//5.99912//EN
TZID:Europe/Berlin
X-WR-TIMEZONE:Europe/Berlin
BEGIN:VEVENT
UID:0-416@sontheimbrenz.albverein.eu
DTSTART;TZID=Europe/Berlin:20261208T160000
DTEND;TZID=Europe/Berlin:20261208T180000
DTSTAMP:20251203T145321Z
URL:https://sontheimbrenz.albverein.eu/events/wichteln-und-backen/
SUMMARY:Wichteln und Backen
DESCRIPTION:Wir wollen uns gegenseitig beschenken\, indem wir wichteln. Au
 ßerdem nehmen wir uns noch Zeit\, schöne Plätzchen zu backen.\nWir\, di
 e Gruppenleiter\, freuen uns auf euch und eure Kreativität!\n\nDie nötig
 en Infos kommen dann noch ...
LOCATION:Grundschule Brenz\, Turnstraße 33\, Sontheim\, Baden-Württemberg
 \, 89567\, Deutschland
GEO:48.56610999999999;10.291079999999965
X-APPLE-STRUCTURED-LOCATION;VALUE=URI;X-ADDRESS=Turnstraße 33\, Sontheim\,
  Baden-Württemberg\, 89567\, Deutschland;X-APPLE-RADIUS=100;X-TITLE=Grund
 schule Brenz:geo:48.56610999999999,10.291079999999965
END:VEVENT
BEGIN:VTIMEZONE
TZID:Europe/Berlin
X-LIC-LOCATION:Europe/Berlin
BEGIN:STANDARD
DTSTART:20261025T020000
TZOFFSETFROM:+0200
TZOFFSETTO:+0100
TZNAME:CET
END:STANDARD
END:VTIMEZONE
END:VCALENDAR